BEGIN:VCALENDAR
VERSION:2.0
PRODID:-//Ride Texas - ECPv6.15.20//NONSGML v1.0//EN
CALSCALE:GREGORIAN
METHOD:PUBLISH
X-WR-CALNAME:Ride Texas
X-ORIGINAL-URL:https://www.ridetexas.com
X-WR-CALDESC:Events for Ride Texas
REFRESH-INTERVAL;VALUE=DURATION:PT1H
X-Robots-Tag:noindex
X-PUBLISHED-TTL:PT1H
BEGIN:VTIMEZONE
TZID:America/Chicago
BEGIN:DAYLIGHT
TZOFFSETFROM:-0600
TZOFFSETTO:-0500
TZNAME:CDT
DTSTART:20250309T080000
END:DAYLIGHT
BEGIN:STANDARD
TZOFFSETFROM:-0500
TZOFFSETTO:-0600
TZNAME:CST
DTSTART:20251102T070000
END:STANDARD
BEGIN:DAYLIGHT
TZOFFSETFROM:-0600
TZOFFSETTO:-0500
TZNAME:CDT
DTSTART:20260308T080000
END:DAYLIGHT
BEGIN:STANDARD
TZOFFSETFROM:-0500
TZOFFSETTO:-0600
TZNAME:CST
DTSTART:20261101T070000
END:STANDARD
BEGIN:DAYLIGHT
TZOFFSETFROM:-0600
TZOFFSETTO:-0500
TZNAME:CDT
DTSTART:20270314T080000
END:DAYLIGHT
BEGIN:STANDARD
TZOFFSETFROM:-0500
TZOFFSETTO:-0600
TZNAME:CST
DTSTART:20271107T070000
END:STANDARD
END:VTIMEZONE
BEGIN:VEVENT
DTSTART;VALUE=DATE:20260716
DTEND;VALUE=DATE:20260719
DTSTAMP:20260423T193050
CREATED:20260126T143216Z
LAST-MODIFIED:20260126T143216Z
UID:27506-1784160000-1784419199@www.ridetexas.com
SUMMARY:Get On ADV Fest
DESCRIPTION:The 6th annual Get On ADV Fest is a Sturgis Buffalo Chip Campground on July 16 to 18\, 2026. \nThis multi-day adventure motorcycle festival includes: \n\nWorld-class adventure riding\nTest rides\nSeminars\nEntertainment\nSkills challenges\nSlow races\nPrizes and awards\nRiding gear and accessories vendors\n\nDragoo Adventure Rider Training (D.A.R.T) will be onsite offer Basic and Advanced Riding Skills classes! Sign up in advance. \nAdmission to Get On and camping reservations are sold separately. Admission is $113.55 and camping passes are $114.68 per person. Required trail permits cost $30.21. RV sites and cabins are available. Meal plans are also available. \nSee event website for registration.
URL:https://www.ridetexas.com/event/get-on-adv-fest/
LOCATION:Buffalo Chip Campgrounds\, 20622 Fort Meade Way\, Sturgis\, SD\, 57785\, United States
CATEGORIES:ADV Rally
END:VEVENT
END:VCALENDAR