BEGIN:VCALENDAR
VERSION:2.0
PRODID:-//Ride Texas - ECPv6.15.20//NONSGML v1.0//EN
CALSCALE:GREGORIAN
METHOD:PUBLISH
X-ORIGINAL-URL:https://www.ridetexas.com
X-WR-CALDESC:Events for Ride Texas
REFRESH-INTERVAL;VALUE=DURATION:PT1H
X-Robots-Tag:noindex
X-PUBLISHED-TTL:PT1H
BEGIN:VTIMEZONE
TZID:America/Chicago
BEGIN:DAYLIGHT
TZOFFSETFROM:-0600
TZOFFSETTO:-0500
TZNAME:CDT
DTSTART:20250309T080000
END:DAYLIGHT
BEGIN:STANDARD
TZOFFSETFROM:-0500
TZOFFSETTO:-0600
TZNAME:CST
DTSTART:20251102T070000
END:STANDARD
BEGIN:DAYLIGHT
TZOFFSETFROM:-0600
TZOFFSETTO:-0500
TZNAME:CDT
DTSTART:20260308T080000
END:DAYLIGHT
BEGIN:STANDARD
TZOFFSETFROM:-0500
TZOFFSETTO:-0600
TZNAME:CST
DTSTART:20261101T070000
END:STANDARD
BEGIN:DAYLIGHT
TZOFFSETFROM:-0600
TZOFFSETTO:-0500
TZNAME:CDT
DTSTART:20270314T080000
END:DAYLIGHT
BEGIN:STANDARD
TZOFFSETFROM:-0500
TZOFFSETTO:-0600
TZNAME:CST
DTSTART:20271107T070000
END:STANDARD
END:VTIMEZONE
BEGIN:VEVENT
DTSTART;VALUE=DATE:20260514
DTEND;VALUE=DATE:20260517
DTSTAMP:20260424T001103
CREATED:20260310T000007Z
LAST-MODIFIED:20260310T000007Z
UID:27560-1778716800-1778975999@www.ridetexas.com
SUMMARY:Black Wallstreet Rally
DESCRIPTION:Black Wall Street Rally is May 14 to 16\, 2026 in the historic Greenwood District of Tulsa\, Oklahoma. \nWhat to expect: \n\nBlack Wall Street tours\nCommunity organizations\nVendors\nLive music\nDemo-rides\nBike show\nSound competition\nGuest speakers\nFinancial literacy panel discussions\nGolf classic\nHBCU & Greek organizations\nHeadliner concert\nDay and night social events\n\nSee event page for online registration. \n  \n 
URL:https://www.ridetexas.com/event/black-wallstreet-rally/
LOCATION:Tulsa\, Oklahoma\, Tulsa\, OK\, United States
CATEGORIES:Rally
ORGANIZER;CN="Black Wallstreet Rally":MAILTO:blackwallstreetrally@gmail.com
END:VEVENT
BEGIN:VEVENT
DTSTART;VALUE=DATE:20260514
DTEND;VALUE=DATE:20260518
DTSTAMP:20260424T001103
CREATED:20260309T033607Z
LAST-MODIFIED:20260311T033654Z
UID:27781-1778716800-1779062399@www.ridetexas.com
SUMMARY:The Crater Rally
DESCRIPTION:The Crater Rally is May 14 t0 17\, 2026 in Somerville. \nThe Crater Rally is a three-day bike rally packed full of entertainment\, including: \n\nConcerts\nStage Games and Contests\nOld School Bike Games\nBike Show\nLots of Vendors\nPoker Run\nFood and Drinks\nCamping\n\nWeekend passes are $65\, camping included. RV sites are additional; see the event page for information.
URL:https://www.ridetexas.com/event/the-crater-rally/
LOCATION:Welch Park Somerville Lake\, 1560 Thornberry Dr\, Somerville\, TX\, 77879\, United States
CATEGORIES:Rally
ORGANIZER;CN="The Crater Rally":MAILTO:barbara@blowoutbikerproductions.com
END:VEVENT
BEGIN:VEVENT
DTSTART;TZID=America/Chicago:20260514T120000
DTEND;TZID=America/Chicago:20260517T180000
DTSTAMP:20260424T001103
CREATED:20260208T224654Z
LAST-MODIFIED:20260208T224654Z
UID:27608-1778760000-1779040800@www.ridetexas.com
SUMMARY:Texas Rattlesnake Rally
DESCRIPTION:The Texas Rattlesnake Rally is happening on May 14 to 17\, 2026 in Walnut Springs. \nThe main venue and entertainment will be at the Vyper Pit Playground. \nThis four-day motorcycle rally will be packed with: \n\nlive music\nbikini contest\nMMA Fights\nbike shows\ncontests\nbikini bike wash\nscenic ride routes\nvendors\ncamping & RV setups\n\nand all the grit & glory of a true Texas biker weekend. \nTickets range from $20 to $25 for day passes up to $150 for a four-day pass.
URL:https://www.ridetexas.com/event/texas-rattlesnake-rally/
LOCATION:Vyper Pit Playground\, 157 FM 203\, Walnut Springs\, TX\, 76690\, United States
CATEGORIES:Campout,Rally
ORGANIZER;CN="Vyper Pit Playground":MAILTO:sunbru1118@yahoo.com
END:VEVENT
END:VCALENDAR