BEGIN:VCALENDAR
VERSION:2.0
PRODID:-//Ride Texas - ECPv6.15.20//NONSGML v1.0//EN
CALSCALE:GREGORIAN
METHOD:PUBLISH
X-WR-CALNAME:Ride Texas
X-ORIGINAL-URL:https://www.ridetexas.com
X-WR-CALDESC:Events for Ride Texas
REFRESH-INTERVAL;VALUE=DURATION:PT1H
X-Robots-Tag:noindex
X-PUBLISHED-TTL:PT1H
BEGIN:VTIMEZONE
TZID:America/Chicago
BEGIN:DAYLIGHT
TZOFFSETFROM:-0600
TZOFFSETTO:-0500
TZNAME:CDT
DTSTART:20250309T080000
END:DAYLIGHT
BEGIN:STANDARD
TZOFFSETFROM:-0500
TZOFFSETTO:-0600
TZNAME:CST
DTSTART:20251102T070000
END:STANDARD
BEGIN:DAYLIGHT
TZOFFSETFROM:-0600
TZOFFSETTO:-0500
TZNAME:CDT
DTSTART:20260308T080000
END:DAYLIGHT
BEGIN:STANDARD
TZOFFSETFROM:-0500
TZOFFSETTO:-0600
TZNAME:CST
DTSTART:20261101T070000
END:STANDARD
BEGIN:DAYLIGHT
TZOFFSETFROM:-0600
TZOFFSETTO:-0500
TZNAME:CDT
DTSTART:20270314T080000
END:DAYLIGHT
BEGIN:STANDARD
TZOFFSETFROM:-0500
TZOFFSETTO:-0600
TZNAME:CST
DTSTART:20271107T070000
END:STANDARD
END:VTIMEZONE
BEGIN:VEVENT
DTSTART;VALUE=DATE:20260319
DTEND;VALUE=DATE:20260323
DTSTAMP:20260423T170203
CREATED:20251212T213019Z
LAST-MODIFIED:20251212T213019Z
UID:27377-1773878400-1774223999@www.ridetexas.com
SUMMARY:Nitty Gritty Chopper City
DESCRIPTION:Get ready for the biggest ‘n’ baddest little chopper show in Texas on March 19 to 22\, 2026. \n\nVintage Bike Showcase\nLive Bands Every Day\nChopper Games\nChopper Drag Races\nMerchandise and Food Vendors\n\nThe campground features a 30-foot waterslide into the beautiful Salmon Lake\, 28 cabins\, more than 300 RV spots\, and tent camping. \nA three-day event pass is $100.
URL:https://www.ridetexas.com/event/nitty-gritty-chopper-city/
LOCATION:Salmon Lake Park\, 247 Salmon Lake Rd.\, Grapeland\, TX\, 75844\, United States
CATEGORIES:Bike Show,Vintage Event
ORGANIZER;CN="Nitty Gritty Chopper City":MAILTO:Nittygrittychoppercity@gmail.com
END:VEVENT
BEGIN:VEVENT
DTSTART;TZID=America/Chicago:20260320T160000
DTEND;TZID=America/Chicago:20260321T200000
DTSTAMP:20260423T170203
CREATED:20260208T222457Z
LAST-MODIFIED:20260208T222457Z
UID:27602-1774022400-1774123200@www.ridetexas.com
SUMMARY:Texas Riders Rally
DESCRIPTION:The 5th Annual Texas Riders Rally is rolling into Central Texas Harley-Davidson for two days of high-energy rally fun on March 10 and 21\, 2026 at Central Texas Harley-Davidson in Round Rock. \nExpect roaring engines\, nonstop action\, killer food\, and the kind of rally atmosphere that brings the local riding community together. \nLive music \nVendors \nStunt show
URL:https://www.ridetexas.com/event/texas-riders-rally/
LOCATION:Central Texas Harley-Davidson\, 2801 N Interstate Hwy 35\,\, Round Rock\, TX\, 78664\, United States
CATEGORIES:Dealership Event
ORGANIZER;CN="Central Texas Harley-Davidson":MAILTO:info@centraltexasharley.com
END:VEVENT
END:VCALENDAR