BEGIN:VCALENDAR
VERSION:2.0
PRODID:-//Ride Texas - ECPv6.15.20//NONSGML v1.0//EN
CALSCALE:GREGORIAN
METHOD:PUBLISH
X-WR-CALNAME:Ride Texas
X-ORIGINAL-URL:https://www.ridetexas.com
X-WR-CALDESC:Events for Ride Texas
REFRESH-INTERVAL;VALUE=DURATION:PT1H
X-Robots-Tag:noindex
X-PUBLISHED-TTL:PT1H
BEGIN:VTIMEZONE
TZID:America/Chicago
BEGIN:DAYLIGHT
TZOFFSETFROM:-0600
TZOFFSETTO:-0500
TZNAME:CDT
DTSTART:20250309T080000
END:DAYLIGHT
BEGIN:STANDARD
TZOFFSETFROM:-0500
TZOFFSETTO:-0600
TZNAME:CST
DTSTART:20251102T070000
END:STANDARD
BEGIN:DAYLIGHT
TZOFFSETFROM:-0600
TZOFFSETTO:-0500
TZNAME:CDT
DTSTART:20260308T080000
END:DAYLIGHT
BEGIN:STANDARD
TZOFFSETFROM:-0500
TZOFFSETTO:-0600
TZNAME:CST
DTSTART:20261101T070000
END:STANDARD
BEGIN:DAYLIGHT
TZOFFSETFROM:-0600
TZOFFSETTO:-0500
TZNAME:CDT
DTSTART:20270314T080000
END:DAYLIGHT
BEGIN:STANDARD
TZOFFSETFROM:-0500
TZOFFSETTO:-0600
TZNAME:CST
DTSTART:20271107T070000
END:STANDARD
END:VTIMEZONE
BEGIN:VEVENT
DTSTART;VALUE=DATE:20260417
DTEND;VALUE=DATE:20260420
DTSTAMP:20260423T193049
CREATED:20251105T185635Z
LAST-MODIFIED:20251105T185635Z
UID:27206-1776384000-1776643199@www.ridetexas.com
SUMMARY:Hill Country Hangout
DESCRIPTION:The San Antonio BMW Riders Association invites you to the Hill Country Hangout on April 17 to 19\, 2026 in Kerrville. \nThe Hangout is held at the Kerrville-Schreiner Park\, a 517-acre recreation and camping area along the Guadalupe River. \nWhat the Hill Country Hangout Offers (aside from fantastic cycling): \n\nTent camping (2 nights)\nDinners Friday and Saturday\nLight breakfast Saturday and Sunday\nDoor Prizes\nEntertainment Friday and Saturday nights\nSwag Bag\nPoker Run (additional fee)\n50/50 Raffle (additional fee)\n\nPre-registration is $70 (deadline April 10\, 2026). After April 10\, registration will be $80\, payable at the door in cash or check only.
URL:https://www.ridetexas.com/event/hill-country-hangout/
LOCATION:Kerrville-Schreiner Park\, 2385 Bandera Hwy\, Kerrville\, TX\, 78028\, United States
CATEGORIES:ADV Rally
ORGANIZER;CN="San Antonio BMW Riders Association":MAILTO:info@sabmwra.org
END:VEVENT
BEGIN:VEVENT
DTSTART;TZID=America/Chicago:20260418T100000
DTEND;TZID=America/Chicago:20260418T150000
DTSTAMP:20260423T193049
CREATED:20260307T194437Z
LAST-MODIFIED:20260307T194437Z
UID:27714-1776506400-1776524400@www.ridetexas.com
SUMMARY:HOTCC Car & Motorcycle Show
DESCRIPTION:The Heart of Texas Cowboy Church hosts their second annual Car & Motorcycle Show on Saturday\, April 18\, 2026 in Waco. \n\n$25 Entry per Vehicle\n10 Trophies awarded\n50/50 Tickets\nFree admission to the public!\n\nOld\, new\, limited editions\, and everything in between are welcome. \nEnjoy Cars\, Motorcycles\, Music\, Food\, and Fellowship
URL:https://www.ridetexas.com/event/hotcc-car-motorcycle-show/
LOCATION:Heart of Texas Cowboy Church\, 5101 Kendall Lane\, Waco\, TX\, 76705\, United States
CATEGORIES:Bike Show,Car or Other Event
ORGANIZER;CN="Heart of Texas Cowboy Church":MAILTO:hotccsecretary@yahoo.com
END:VEVENT
END:VCALENDAR