BEGIN:VCALENDAR
VERSION:2.0
PRODID:-//Ride Texas - ECPv6.15.20//NONSGML v1.0//EN
CALSCALE:GREGORIAN
METHOD:PUBLISH
X-WR-CALNAME:Ride Texas
X-ORIGINAL-URL:https://www.ridetexas.com
X-WR-CALDESC:Events for Ride Texas
REFRESH-INTERVAL;VALUE=DURATION:PT1H
X-Robots-Tag:noindex
X-PUBLISHED-TTL:PT1H
BEGIN:VTIMEZONE
TZID:America/Chicago
BEGIN:DAYLIGHT
TZOFFSETFROM:-0600
TZOFFSETTO:-0500
TZNAME:CDT
DTSTART:20250309T080000
END:DAYLIGHT
BEGIN:STANDARD
TZOFFSETFROM:-0500
TZOFFSETTO:-0600
TZNAME:CST
DTSTART:20251102T070000
END:STANDARD
BEGIN:DAYLIGHT
TZOFFSETFROM:-0600
TZOFFSETTO:-0500
TZNAME:CDT
DTSTART:20260308T080000
END:DAYLIGHT
BEGIN:STANDARD
TZOFFSETFROM:-0500
TZOFFSETTO:-0600
TZNAME:CST
DTSTART:20261101T070000
END:STANDARD
BEGIN:DAYLIGHT
TZOFFSETFROM:-0600
TZOFFSETTO:-0500
TZNAME:CDT
DTSTART:20270314T080000
END:DAYLIGHT
BEGIN:STANDARD
TZOFFSETFROM:-0500
TZOFFSETTO:-0600
TZNAME:CST
DTSTART:20271107T070000
END:STANDARD
END:VTIMEZONE
BEGIN:VEVENT
DTSTART;TZID=America/Chicago:20260129T180000
DTEND;TZID=America/Chicago:20260129T200000
DTSTAMP:20260423T234910
CREATED:20260114T204740Z
LAST-MODIFIED:20260114T204740Z
UID:27439-1769709600-1769716800@www.ridetexas.com
SUMMARY:Stunt Practice Bike Night
DESCRIPTION:Join in Thursday\, Jan 29\, 2026 from 6pm to 8pm for the first-ever Stunt Practice Bike Night at The Ranch H-D in College Station. \nFor the first time in nearly 5 years\, Bike Night is returning to The Ranch Harley-Davidson on the last Thursday of the month! \nWhether you ride a cruiser\, sport bike\, scooter\, three-wheeler\, or just love the culture\, this is for you. \n\nStunt Practice Area: Dedicated zone to work on your skills*\nBurnout Pit: Smoke ‘em if you got ‘em!\nDJ Krys Locke\nVendors\nFood Truck\nFree Drinks!*\nSweet Door Prizes all night long!\n\n*Waivers are required for stuntin’. Adult beverages are for guests 21+ with valid ID. Limited to two per person. Please enjoy responsibly.* \n 
URL:https://www.ridetexas.com/event/stunt-practice-bike-night/
LOCATION:The Ranch Harley-Davidson\, 4115 Texas 6 Frontage Rd\, College Station\, TX\, 77845\, United States
CATEGORIES:Bike Night
END:VEVENT
END:VCALENDAR