BEGIN:VCALENDAR
VERSION:2.0
PRODID:-//Ride Texas - ECPv6.15.20//NONSGML v1.0//EN
CALSCALE:GREGORIAN
METHOD:PUBLISH
X-ORIGINAL-URL:https://www.ridetexas.com
X-WR-CALDESC:Events for Ride Texas
REFRESH-INTERVAL;VALUE=DURATION:PT1H
X-Robots-Tag:noindex
X-PUBLISHED-TTL:PT1H
BEGIN:VTIMEZONE
TZID:America/Chicago
BEGIN:DAYLIGHT
TZOFFSETFROM:-0600
TZOFFSETTO:-0500
TZNAME:CDT
DTSTART:20250309T080000
END:DAYLIGHT
BEGIN:STANDARD
TZOFFSETFROM:-0500
TZOFFSETTO:-0600
TZNAME:CST
DTSTART:20251102T070000
END:STANDARD
BEGIN:DAYLIGHT
TZOFFSETFROM:-0600
TZOFFSETTO:-0500
TZNAME:CDT
DTSTART:20260308T080000
END:DAYLIGHT
BEGIN:STANDARD
TZOFFSETFROM:-0500
TZOFFSETTO:-0600
TZNAME:CST
DTSTART:20261101T070000
END:STANDARD
BEGIN:DAYLIGHT
TZOFFSETFROM:-0600
TZOFFSETTO:-0500
TZNAME:CDT
DTSTART:20270314T080000
END:DAYLIGHT
BEGIN:STANDARD
TZOFFSETFROM:-0500
TZOFFSETTO:-0600
TZNAME:CST
DTSTART:20271107T070000
END:STANDARD
END:VTIMEZONE
BEGIN:VEVENT
DTSTART;VALUE=DATE:20260227
DTEND;VALUE=DATE:20260309
DTSTAMP:20260423T180750
CREATED:20260213T184146Z
LAST-MODIFIED:20260213T184146Z
UID:27676-1772150400-1773014399@www.ridetexas.com
SUMMARY:Daytona Bike Week
DESCRIPTION:Daytona Bike Week is happening throughout Daytona Beach\, Florida\, from Friday\, February 27 to Sunday\, March 8\, 2026. \nEvents take place from the beach to the world-famous Daytona Speedway and beyond. \nThe Daytona Bike Week Motorcycle Rally is one of the biggest motorcycle events in the country\, with more than 500\,000 motorcycles rolling into Daytona in the spring for Bike Week. \nThere is something for everyone\, including old-school biker parties\, motorcycle races\, concerts\, bike games\, people games\, tons of vendors\, and lots more. \nSee event website for a calendar of events.
URL:https://www.ridetexas.com/event/daytona-bike-week-2/
LOCATION:Daytona Beach\, FL\, Daytona Beach\, FL\, United States
CATEGORIES:Rally
END:VEVENT
BEGIN:VEVENT
DTSTART;TZID=America/Chicago:20260307T100000
DTEND;TZID=America/Chicago:20260307T150000
DTSTAMP:20260423T180750
CREATED:20260208T220610Z
LAST-MODIFIED:20260208T220610Z
UID:27589-1772877600-1772895600@www.ridetexas.com
SUMMARY:Iron Heritage
DESCRIPTION:Iron Heritage celebrates African American Riders on Saturday\, March 7 in Paris\, Texas. \n\nDJ Benz spinning all day\nBeer + Tacos\nCustom motorcycle fashion\nClayton’s bringing the jewelry\nBike Show\n– Custom Class\n– Sound Class\n– Cruiser Class\n– Sport Class\n\nThis is more than a bike show—it’s a full-on heritage celebration with great bikes and nonstop vibes. \nSee event page to RSVP and for information on how to enter the bike show.
URL:https://www.ridetexas.com/event/iron-heritage/
LOCATION:South Main Iron\, 255 SW 1st St.\, Paris\, TX\, 75460\, United States
CATEGORIES:Bike Show
ORGANIZER;CN="South Main Iron":MAILTO:info@southmainiron.com
END:VEVENT
BEGIN:VEVENT
DTSTART;VALUE=DATE:20260319
DTEND;VALUE=DATE:20260323
DTSTAMP:20260423T180750
CREATED:20251212T213019Z
LAST-MODIFIED:20251212T213019Z
UID:27377-1773878400-1774223999@www.ridetexas.com
SUMMARY:Nitty Gritty Chopper City
DESCRIPTION:Get ready for the biggest ‘n’ baddest little chopper show in Texas on March 19 to 22\, 2026. \n\nVintage Bike Showcase\nLive Bands Every Day\nChopper Games\nChopper Drag Races\nMerchandise and Food Vendors\n\nThe campground features a 30-foot waterslide into the beautiful Salmon Lake\, 28 cabins\, more than 300 RV spots\, and tent camping. \nA three-day event pass is $100.
URL:https://www.ridetexas.com/event/nitty-gritty-chopper-city/
LOCATION:Salmon Lake Park\, 247 Salmon Lake Rd.\, Grapeland\, TX\, 75844\, United States
CATEGORIES:Bike Show,Vintage Event
ORGANIZER;CN="Nitty Gritty Chopper City":MAILTO:Nittygrittychoppercity@gmail.com
END:VEVENT
BEGIN:VEVENT
DTSTART;VALUE=DATE:20260327
DTEND;VALUE=DATE:20260330
DTSTAMP:20260423T180750
CREATED:20260213T174107Z
LAST-MODIFIED:20260311T024511Z
UID:27648-1774569600-1774828799@www.ridetexas.com
SUMMARY:Handbuilt Motorcycle Show
DESCRIPTION:We can’t wait to see the Handbuilt Motorcycle Show in it’s new location — Circuit of the Americas — on March 27 to 29\, 2026. \nLook for the show’s custom creations in the Support Paddock of COTA during MotoGP. \nFor more information on Handbuilt\, see https://revivalcycles.com/pages/handbuilt-show. \n 
URL:https://www.ridetexas.com/event/handbuilt-motorcycle-show/
LOCATION:Circuit of The Americas\, 9201 Circuit of the Americas Blvd\, Austin\, TX\, 78617\, United States
CATEGORIES:Bike Show
ORGANIZER;CN="Revival Cycles":MAILTO:info@thehandbuiltshow.com
END:VEVENT
BEGIN:VEVENT
DTSTART;TZID=America/Chicago:20260327T080000
DTEND;TZID=America/Chicago:20260329T140000
DTSTAMP:20260423T180750
CREATED:20251205T190456Z
LAST-MODIFIED:20260311T024236Z
UID:27337-1774598400-1774792800@www.ridetexas.com
SUMMARY:The Texas Fandango
DESCRIPTION:The Texas Fandango is an all-time favorite\, annual vintage motorcycle event in the Texas Hill Country. In 2026\, the Fandango is Friday\, March 27 through Sunday\, March 29 at the Gillespie County Fairgrounds in Fredericksburg. \nThe Texas Fandango is a vintage swap meet\, vintage bike show\, chopper show\, and vintage races all rolled into one fun-packed weekend. \nPurchase your advance tickets now and save money. $15.00 per person\, $20.00 at the gate. Free primitive camping with a general admission ticket.
URL:https://www.ridetexas.com/event/the-texas-fandango-2/
LOCATION:Gillespie County Fairgrounds\, 530 Fair Drive\, Fredericksburg\, TX\, 78624\, United States
CATEGORIES:Vintage Event
ORGANIZER;CN="Texas Fandango":MAILTO:info@thetexasfandango.com
END:VEVENT
BEGIN:VEVENT
DTSTART;TZID=America/Chicago:20260328T130000
DTEND;TZID=America/Chicago:20260328T170000
DTSTAMP:20260423T180750
CREATED:20260213T175949Z
LAST-MODIFIED:20260213T175949Z
UID:27654-1774702800-1774717200@www.ridetexas.com
SUMMARY:Texoma ABATE Bike & Car Show
DESCRIPTION:The 4th annual Texoma ABATE Bike & Car Show is on Saturday\, March 28\, 2026 in Sherman. \nRegister your motorcycle or car for a chance to win a unique trophy for People’s Choice or Best of Show. \nRegistration begins at 9 a.m.; judging begins at 1 p.m. \n\nVendors\n50/50 Drawing\nLunch available at the Elks kitchen.\n\n  \n 
URL:https://www.ridetexas.com/event/texoma-abate-bike-car-show/
LOCATION:Sherman Elks Lodge BPOE 2280\, 1713 East FM 1417\, Sherman\, TX\, United States
CATEGORIES:Benefit,Bike Show,Car or Other Event
END:VEVENT
END:VCALENDAR