BEGIN:VCALENDAR
VERSION:2.0
PRODID:-//Ride Texas - ECPv6.15.20//NONSGML v1.0//EN
CALSCALE:GREGORIAN
METHOD:PUBLISH
X-WR-CALNAME:Ride Texas
X-ORIGINAL-URL:https://www.ridetexas.com
X-WR-CALDESC:Events for Ride Texas
REFRESH-INTERVAL;VALUE=DURATION:PT1H
X-Robots-Tag:noindex
X-PUBLISHED-TTL:PT1H
BEGIN:VTIMEZONE
TZID:America/Chicago
BEGIN:DAYLIGHT
TZOFFSETFROM:-0600
TZOFFSETTO:-0500
TZNAME:CDT
DTSTART:20250309T080000
END:DAYLIGHT
BEGIN:STANDARD
TZOFFSETFROM:-0500
TZOFFSETTO:-0600
TZNAME:CST
DTSTART:20251102T070000
END:STANDARD
BEGIN:DAYLIGHT
TZOFFSETFROM:-0600
TZOFFSETTO:-0500
TZNAME:CDT
DTSTART:20260308T080000
END:DAYLIGHT
BEGIN:STANDARD
TZOFFSETFROM:-0500
TZOFFSETTO:-0600
TZNAME:CST
DTSTART:20261101T070000
END:STANDARD
BEGIN:DAYLIGHT
TZOFFSETFROM:-0600
TZOFFSETTO:-0500
TZNAME:CDT
DTSTART:20270314T080000
END:DAYLIGHT
BEGIN:STANDARD
TZOFFSETFROM:-0500
TZOFFSETTO:-0600
TZNAME:CST
DTSTART:20271107T070000
END:STANDARD
END:VTIMEZONE
BEGIN:VEVENT
DTSTART;TZID=America/Chicago:20260418T070000
DTEND;TZID=America/Chicago:20260418T160000
DTSTAMP:20260423T205940
CREATED:20260309T031347Z
LAST-MODIFIED:20260309T031347Z
UID:27767-1776495600-1776528000@www.ridetexas.com
SUMMARY:WOWC Bike Run
DESCRIPTION:The 10th annual WOWC Bike Run is Saturday\, April 18\, 20226 in League City. \nThis ride benefits the Way Out Women’s Center. \n\n50/50 Raffle\nSilent and Live Auctions\nHeads & Tails Games\nBBQ Lunch
URL:https://www.ridetexas.com/event/wowc-bike-run/
LOCATION:Walter Hall Park\, 807 Highway 3 N\, League City\, TX\, 77573\, United States
CATEGORIES:Benefit Ride
END:VEVENT
BEGIN:VEVENT
DTSTART;TZID=America/Chicago:20260418T093000
DTEND;TZID=America/Chicago:20260418T160000
DTSTAMP:20260423T205940
CREATED:20260126T173624Z
LAST-MODIFIED:20260126T173624Z
UID:27556-1776504600-1776528000@www.ridetexas.com
SUMMARY:MMIW Texas Rematriate Poker Run
DESCRIPTION:Join The Litas Fort Worth for their second annual MMIW Poker Run. All proceeds will go to MMIW Texas Rematriate. \nRegistration starts at 9:30AM @ #fortworthindian with 3 Stops after to final @ #texasharleydavidson \nEnd point: Texas Harley-Davidson\, where they will have live auctions\, raffles\, a 50/50 drawing\, and more. \nHelp the community in raising awareness for Missing and Murdered Indigenous Women.
URL:https://www.ridetexas.com/event/mmiw-texas-rematriate-poker-run/
LOCATION:Fort Worth Indian Motorcycles\, 3008 W Normandale St.\, Ft. Worth\, Texas\, 76116\, United States
CATEGORIES:Benefit Ride,Poker Run
ORGANIZER;CN="The Litas Fort Worth":MAILTO:thelitasfortworth@gmail.com
END:VEVENT
END:VCALENDAR