BEGIN:VCALENDAR
VERSION:2.0
PRODID:-//Ride Texas - ECPv6.15.20//NONSGML v1.0//EN
CALSCALE:GREGORIAN
METHOD:PUBLISH
X-WR-CALNAME:Ride Texas
X-ORIGINAL-URL:https://www.ridetexas.com
X-WR-CALDESC:Events for Ride Texas
REFRESH-INTERVAL;VALUE=DURATION:PT1H
X-Robots-Tag:noindex
X-PUBLISHED-TTL:PT1H
BEGIN:VTIMEZONE
TZID:America/Chicago
BEGIN:DAYLIGHT
TZOFFSETFROM:-0600
TZOFFSETTO:-0500
TZNAME:CDT
DTSTART:20250309T080000
END:DAYLIGHT
BEGIN:STANDARD
TZOFFSETFROM:-0500
TZOFFSETTO:-0600
TZNAME:CST
DTSTART:20251102T070000
END:STANDARD
BEGIN:DAYLIGHT
TZOFFSETFROM:-0600
TZOFFSETTO:-0500
TZNAME:CDT
DTSTART:20260308T080000
END:DAYLIGHT
BEGIN:STANDARD
TZOFFSETFROM:-0500
TZOFFSETTO:-0600
TZNAME:CST
DTSTART:20261101T070000
END:STANDARD
BEGIN:DAYLIGHT
TZOFFSETFROM:-0600
TZOFFSETTO:-0500
TZNAME:CDT
DTSTART:20270314T080000
END:DAYLIGHT
BEGIN:STANDARD
TZOFFSETFROM:-0500
TZOFFSETTO:-0600
TZNAME:CST
DTSTART:20271107T070000
END:STANDARD
END:VTIMEZONE
BEGIN:VEVENT
DTSTART;TZID=America/Chicago:20260508T120000
DTEND;TZID=America/Chicago:20260510T120000
DTSTAMP:20260423T234013
CREATED:20260309T032956Z
LAST-MODIFIED:20260309T032956Z
UID:27777-1778241600-1778414400@www.ridetexas.com
SUMMARY:Southern Throwdown
DESCRIPTION:Southern Throwdown at Yellow Rose Canyon is a full experience… ride in\, set up camp\, catch the music\, roam the vendors\, and end the night with your people. \nBig ride and race announcements coming soon – see event page. \nIf you’ve never been\, this is your year. \nTickets are $15 pre-sale and $20 at the gate.
URL:https://www.ridetexas.com/event/southern-throwdown/
LOCATION:Yellow Rose Canyon\, 1039 FM 1798\, Mt. Enterprise\, TX\, 75681\, United States
CATEGORIES:Campout
ORGANIZER;CN="Southern Throwdown":MAILTO:southernthrowdown13@gmail.com
END:VEVENT
BEGIN:VEVENT
DTSTART;TZID=America/Chicago:20260514T120000
DTEND;TZID=America/Chicago:20260517T180000
DTSTAMP:20260423T234013
CREATED:20260208T224654Z
LAST-MODIFIED:20260208T224654Z
UID:27608-1778760000-1779040800@www.ridetexas.com
SUMMARY:Texas Rattlesnake Rally
DESCRIPTION:The Texas Rattlesnake Rally is happening on May 14 to 17\, 2026 in Walnut Springs. \nThe main venue and entertainment will be at the Vyper Pit Playground. \nThis four-day motorcycle rally will be packed with: \n\nlive music\nbikini contest\nMMA Fights\nbike shows\ncontests\nbikini bike wash\nscenic ride routes\nvendors\ncamping & RV setups\n\nand all the grit & glory of a true Texas biker weekend. \nTickets range from $20 to $25 for day passes up to $150 for a four-day pass.
URL:https://www.ridetexas.com/event/texas-rattlesnake-rally/
LOCATION:Vyper Pit Playground\, 157 FM 203\, Walnut Springs\, TX\, 76690\, United States
CATEGORIES:Campout,Rally
ORGANIZER;CN="Vyper Pit Playground":MAILTO:sunbru1118@yahoo.com
END:VEVENT
END:VCALENDAR